BEGIN:VCALENDAR
VERSION:2.0
PRODID:-//New York Rural Letter Carriers&#039; Association - ECPv6.15.20//NONSGML v1.0//EN
CALSCALE:GREGORIAN
METHOD:PUBLISH
X-WR-CALNAME:New York Rural Letter Carriers&#039; Association
X-ORIGINAL-URL:https://nyrlca.net
X-WR-CALDESC:Events for New York Rural Letter Carriers&#039; Association
REFRESH-INTERVAL;VALUE=DURATION:PT1H
X-Robots-Tag:noindex
X-PUBLISHED-TTL:PT1H
BEGIN:VTIMEZONE
TZID:America/New_York
BEGIN:DAYLIGHT
TZOFFSETFROM:-0500
TZOFFSETTO:-0400
TZNAME:EDT
DTSTART:20250309T070000
END:DAYLIGHT
BEGIN:STANDARD
TZOFFSETFROM:-0400
TZOFFSETTO:-0500
TZNAME:EST
DTSTART:20251102T060000
END:STANDARD
BEGIN:DAYLIGHT
TZOFFSETFROM:-0500
TZOFFSETTO:-0400
TZNAME:EDT
DTSTART:20260308T070000
END:DAYLIGHT
BEGIN:STANDARD
TZOFFSETFROM:-0400
TZOFFSETTO:-0500
TZNAME:EST
DTSTART:20261101T060000
END:STANDARD
BEGIN:DAYLIGHT
TZOFFSETFROM:-0500
TZOFFSETTO:-0400
TZNAME:EDT
DTSTART:20270314T070000
END:DAYLIGHT
BEGIN:STANDARD
TZOFFSETFROM:-0400
TZOFFSETTO:-0500
TZNAME:EST
DTSTART:20271107T060000
END:STANDARD
END:VTIMEZONE
BEGIN:VEVENT
DTSTART;VALUE=DATE:20260424
DTEND;VALUE=DATE:20260425
DTSTAMP:20260424T025210
CREATED:20260401T223800Z
LAST-MODIFIED:20260401T223800Z
UID:4834-1776988800-1777075199@nyrlca.net
SUMMARY:RREDP Deadline
DESCRIPTION:All disputes must include documentation. At a bare minimum all disputes should have a copy of the 4241A and all three pages of the 4241M. \nIncluding the dispute page\, every dispute should be a minimum of 5 pages. \nPlease ensure management mails all disputes to each party with tracking no later than April 24\, 2026. \nNew York 3: \nNRLCA District Representative\nPhil Tremper\nPO Box 515\nPine Bush\, NY 12566 \n& \nNew York 3 Labor Management\nLeslie Selice\n1200 William Street RM 301B\nBuffalo\, NY 14240 \nNew York 2: \nNRLCA District Representative\nMargaret Mulcan\nPO Box 1094\nSyosset\, NY 11791 \n& \nNew York 2 Labor Management \nMore information on NY2 labor to be posted when available.
URL:https://nyrlca.net/event/rredp-deadline/
LOCATION:NY
END:VEVENT
END:VCALENDAR