BEGIN:VCALENDAR
VERSION:2.0
PRODID:-//New York Rural Letter Carriers&#039; Association - ECPv6.15.20//NONSGML v1.0//EN
CALSCALE:GREGORIAN
METHOD:PUBLISH
X-ORIGINAL-URL:https://nyrlca.net
X-WR-CALDESC:Events for New York Rural Letter Carriers&#039; Association
REFRESH-INTERVAL;VALUE=DURATION:PT1H
X-Robots-Tag:noindex
X-PUBLISHED-TTL:PT1H
BEGIN:VTIMEZONE
TZID:America/New_York
BEGIN:DAYLIGHT
TZOFFSETFROM:-0500
TZOFFSETTO:-0400
TZNAME:EDT
DTSTART:20230312T070000
END:DAYLIGHT
BEGIN:STANDARD
TZOFFSETFROM:-0400
TZOFFSETTO:-0500
TZNAME:EST
DTSTART:20231105T060000
END:STANDARD
BEGIN:DAYLIGHT
TZOFFSETFROM:-0500
TZOFFSETTO:-0400
TZNAME:EDT
DTSTART:20240310T070000
END:DAYLIGHT
BEGIN:STANDARD
TZOFFSETFROM:-0400
TZOFFSETTO:-0500
TZNAME:EST
DTSTART:20241103T060000
END:STANDARD
BEGIN:DAYLIGHT
TZOFFSETFROM:-0500
TZOFFSETTO:-0400
TZNAME:EDT
DTSTART:20250309T070000
END:DAYLIGHT
BEGIN:STANDARD
TZOFFSETFROM:-0400
TZOFFSETTO:-0500
TZNAME:EST
DTSTART:20251102T060000
END:STANDARD
END:VTIMEZONE
BEGIN:VEVENT
DTSTART;VALUE=DATE:20240823
DTEND;VALUE=DATE:20240907
DTSTAMP:20260424T165737
CREATED:20241217T030011Z
LAST-MODIFIED:20241217T030011Z
UID:4109-1724371200-1725667199@nyrlca.net
SUMMARY:Mini Mail Survey #4
DESCRIPTION:Saturday\, August 10\, 2024\nBegin MMS Preload\nBegin data entry of “Route Settings” and “Office Walk Distance”\n\n\nFriday\,  August 23\, 2024\nBegin MMS\nFirst Day of 12-Day MMS – Begin data entry of “Daily Volume” and “Miscellaneous Time”\n\n\nFriday\, September 06\, 2024\nDPM / LTM Mapping Certification Deadline\nRoutes must be mapped in DPM and certified in LTM\n\n\nFriday\, September 06\, 2024\nEnd MMS\nLast Day of MMS – Data for all routes should be entered for all 12 days of the MMS\n\n\nFriday\, September 13\, 2024\nLockout MMS\nFinal Day for MMS Entries – No updates to MMS data may be made after 09.13.2024\n\n\nSaturday\, September 28\, 2024\nForms 4241A & 4241M PDF\nPrint and Distribute PS Forms 4241A & 4241M\n\n\nSaturday\, October 05\, 2024\nEffective Date\nRoute Evaluations go into effect
URL:https://nyrlca.net/event/mini-mail-survey-4/
LOCATION:NY
END:VEVENT
END:VCALENDAR