BEGIN:VCALENDAR
VERSION:2.0
PRODID:-//New York Rural Letter Carriers&#039; Association - ECPv6.15.20//NONSGML v1.0//EN
CALSCALE:GREGORIAN
METHOD:PUBLISH
X-WR-CALNAME:New York Rural Letter Carriers&#039; Association
X-ORIGINAL-URL:https://nyrlca.net
X-WR-CALDESC:Events for New York Rural Letter Carriers&#039; Association
REFRESH-INTERVAL;VALUE=DURATION:PT1H
X-Robots-Tag:noindex
X-PUBLISHED-TTL:PT1H
BEGIN:VTIMEZONE
TZID:America/New_York
BEGIN:DAYLIGHT
TZOFFSETFROM:-0500
TZOFFSETTO:-0400
TZNAME:EDT
DTSTART:20240310T070000
END:DAYLIGHT
BEGIN:STANDARD
TZOFFSETFROM:-0400
TZOFFSETTO:-0500
TZNAME:EST
DTSTART:20241103T060000
END:STANDARD
BEGIN:DAYLIGHT
TZOFFSETFROM:-0500
TZOFFSETTO:-0400
TZNAME:EDT
DTSTART:20250309T070000
END:DAYLIGHT
BEGIN:STANDARD
TZOFFSETFROM:-0400
TZOFFSETTO:-0500
TZNAME:EST
DTSTART:20251102T060000
END:STANDARD
BEGIN:DAYLIGHT
TZOFFSETFROM:-0500
TZOFFSETTO:-0400
TZNAME:EDT
DTSTART:20260308T070000
END:DAYLIGHT
BEGIN:STANDARD
TZOFFSETFROM:-0400
TZOFFSETTO:-0500
TZNAME:EST
DTSTART:20261101T060000
END:STANDARD
END:VTIMEZONE
BEGIN:VEVENT
DTSTART;VALUE=DATE:20250503
DTEND;VALUE=DATE:20250504
DTSTAMP:20260424T030106
CREATED:20241217T025216Z
LAST-MODIFIED:20241217T025216Z
UID:4093-1746230400-1746316799@nyrlca.net
SUMMARY:Deadline for the NYRLCA to Receive Nominations for National Convention
DESCRIPTION:All 2025 NRLCA National Convention Nomination Ballots must be received by 5/3/2025\, which is 50 days prior to the opening of the NYRLCA State Convention\, 6/22/2025. \nPlease send all NY Nomination Ballots to: \nNYRLCA\nNational Delegate Nomination\nPO Box 51\nWindham\, NY\n12496-0051 \nNomination Ballot & Instructions
URL:https://nyrlca.net/event/deadline-for-the-nyrlca-to-receive-nominations-for-national-convention/
LOCATION:NY
END:VEVENT
BEGIN:VEVENT
DTSTART;TZID=America/New_York:20250503T183000
DTEND;TZID=America/New_York:20250503T213000
DTSTAMP:20260424T030106
CREATED:20250420T171959Z
LAST-MODIFIED:20250420T171959Z
UID:4370-1746297000-1746307800@nyrlca.net
SUMMARY:Chenango Madison County RLCA Spring Meeting
DESCRIPTION:NYRLCA State Officer:\nJohn Fancher \nNational Steward:\nSheila Auslander
URL:https://nyrlca.net/event/chenango-madison-county-rlca-spring-meeting/
LOCATION:Park Place Restaurant\, 7 E Park Pl\, Norwich\, NY\, 13815\, United States
END:VEVENT
BEGIN:VEVENT
DTSTART;TZID=America/New_York:20250504T133000
DTEND;TZID=America/New_York:20250504T160000
DTSTAMP:20260424T030106
CREATED:20250308T075951Z
LAST-MODIFIED:20250402T021552Z
UID:4283-1746365400-1746374400@nyrlca.net
SUMMARY:Long Island County RLCA Spring Meeting
DESCRIPTION:NYRLCA State Officer:\nGinger Stickles \nNational Steward:\nMargaret Mulcan
URL:https://nyrlca.net/event/long-island-county-rlca-spring-meeting/
LOCATION:Longwood Public Library\, 800 Middle Country Rd\, Middle Island\, NY\, 11953\, United States
END:VEVENT
BEGIN:VEVENT
DTSTART;TZID=America/New_York:20250506T180000
DTEND;TZID=America/New_York:20250506T200000
DTSTAMP:20260424T030106
CREATED:20250421T001250Z
LAST-MODIFIED:20250421T001250Z
UID:4367-1746554400-1746561600@nyrlca.net
SUMMARY:National Delegate Ballot Draw
DESCRIPTION:
URL:https://nyrlca.net/event/national-delegate-ballot-draw/
LOCATION:DVMH – American Legion\, 2272 Dryden Rd\, Dryden\, NY\, 13053\, United States
END:VEVENT
BEGIN:VEVENT
DTSTART;TZID=America/New_York:20250506T180000
DTEND;TZID=America/New_York:20250506T210000
DTSTAMP:20260424T030106
CREATED:20250304T022503Z
LAST-MODIFIED:20250304T022503Z
UID:4266-1746554400-1746565200@nyrlca.net
SUMMARY:ALLE - CATT County RLCA Spring Meeting
DESCRIPTION:NYRLCA State Officer:\nKaren Kipp \nNational Steward:\nNicholas Vogl
URL:https://nyrlca.net/event/alle-catt-county-rlca-spring-meeting/
LOCATION:Perkin’s Restaurant\, 2728 W State St\, Olean\, NY\, 14760\, United States
END:VEVENT
BEGIN:VEVENT
DTSTART;TZID=America/New_York:20250506T183000
DTEND;TZID=America/New_York:20250506T213000
DTSTAMP:20260424T030106
CREATED:20250302T002659Z
LAST-MODIFIED:20250302T002659Z
UID:4259-1746556200-1746567000@nyrlca.net
SUMMARY:TOMPCORT County RLCA Spring Meeting
DESCRIPTION:NYRLCA State Officer:\nJohn Fancher \nNational Steward:\nSue West
URL:https://nyrlca.net/event/tompcort-county-rlca-spring-meeting/
LOCATION:DVMH – American Legion\, 2272 Dryden Rd\, Dryden\, NY\, 13053\, United States
END:VEVENT
BEGIN:VEVENT
DTSTART;TZID=America/New_York:20250506T190000
DTEND;TZID=America/New_York:20250506T220000
DTSTAMP:20260424T030106
CREATED:20241217T025034Z
LAST-MODIFIED:20241217T025034Z
UID:4090-1746558000-1746568800@nyrlca.net
SUMMARY:Orange-Rockland County RLCA Spring Meeting
DESCRIPTION:State Officer:\nGinger Stickles \nNSS Steward:\nPhil Tremper \nDinner at 6:00pm meeting starts at 7:00pm
URL:https://nyrlca.net/event/orange-rockland-county-rlca-spring-meeting/
LOCATION:Kaz Americana Diner\, 420 NY-211\, Middletown\, NY\, 10940\, United States
END:VEVENT
BEGIN:VEVENT
DTSTART;TZID=America/New_York:20250507T174500
DTEND;TZID=America/New_York:20250507T203000
DTSTAMP:20260424T030106
CREATED:20250415T224002Z
LAST-MODIFIED:20250415T224002Z
UID:4358-1746639900-1746649800@nyrlca.net
SUMMARY:Ontario-Yates County RLCA Spring Meeting
DESCRIPTION:NYRLCA State Officer:\nStephanie Farinacci \nNational Steward:\nSusan West
URL:https://nyrlca.net/event/ontario-yates-county-rlca-spring-meeting/
LOCATION:Other Half Brewery\, 24 Lakeshore Dr\, Canandaigua\, NY\, 14424\, United States
END:VEVENT
BEGIN:VEVENT
DTSTART;TZID=America/New_York:20250507T180000
DTEND;TZID=America/New_York:20250507T200000
DTSTAMP:20260424T030106
CREATED:20250420T180125Z
LAST-MODIFIED:20250420T180125Z
UID:4375-1746640800-1746648000@nyrlca.net
SUMMARY:Albany Greene RLCA Spring Meeting
DESCRIPTION:NYRLCA Officer: \nJohn Fancher
URL:https://nyrlca.net/event/albany-greene-rlca-spring-meeting/
LOCATION:Pegasus Restaurant\, 10885 State\, Rte 9W\,\, coxsackie\, NY\, 12051\, United States
END:VEVENT
BEGIN:VEVENT
DTSTART;TZID=America/New_York:20250508T183000
DTEND;TZID=America/New_York:20250508T210000
DTSTAMP:20260424T030106
CREATED:20250420T180648Z
LAST-MODIFIED:20250420T180648Z
UID:4379-1746729000-1746738000@nyrlca.net
SUMMARY:Delaware County RLCA Spring Meeting
DESCRIPTION:NYRLCA State Officer: \nJohn Fancher
URL:https://nyrlca.net/event/delaware-county-rlca-spring-meeting/
LOCATION:New Hope Community Church\, 45 Stockton Ave\, Walton\, NY\, 13856\, United States
END:VEVENT
BEGIN:VEVENT
DTSTART;TZID=America/New_York:20250511T120000
DTEND;TZID=America/New_York:20250511T130000
DTSTAMP:20260424T030106
CREATED:20250501T001558Z
LAST-MODIFIED:20250511T154418Z
UID:4384-1746964800-1746968400@nyrlca.net
SUMMARY:National Ratification Meeting - ZOOM
DESCRIPTION:Click here to enter the ZOOM Meeting \nPlease keep a look out on NRLCA.org for more information as well.
URL:https://nyrlca.net/event/national-ratification-meeting-zoom/
LOCATION:NY
END:VEVENT
BEGIN:VEVENT
DTSTART;TZID=America/New_York:20250517T180000
DTEND;TZID=America/New_York:20250517T200000
DTSTAMP:20260424T030106
CREATED:20250501T001805Z
LAST-MODIFIED:20250501T003441Z
UID:4386-1747504800-1747512000@nyrlca.net
SUMMARY:Ratification Meeting with National Officer Bethany Small
DESCRIPTION:National Officer\, Bethany Small to speak.
URL:https://nyrlca.net/event/ratification-meeting-with-national-officer-bethany-small/
LOCATION:Doubletree Hilton\, 225 Water St\, Binghamton\, NY\, 13901\, United States
END:VEVENT
BEGIN:VEVENT
DTSTART;TZID=America/New_York:20250519T180000
DTEND;TZID=America/New_York:20250519T200000
DTSTAMP:20260424T030106
CREATED:20250501T002028Z
LAST-MODIFIED:20250501T002148Z
UID:4389-1747677600-1747684800@nyrlca.net
SUMMARY:Ratification Meeting - North-East New York 3
DESCRIPTION:District Representative of New York 3\, Phil Tremper to speak.
URL:https://nyrlca.net/event/ratification-meeting-north-east-new-york-3/
LOCATION:The Queensbury Hotel\, 88 Ridge St\, Glens Falls\, NY\, 12801\, United States
END:VEVENT
BEGIN:VEVENT
DTSTART;TZID=America/New_York:20250521T180000
DTEND;TZID=America/New_York:20250521T200000
DTSTAMP:20260424T030106
CREATED:20250501T002552Z
LAST-MODIFIED:20250501T002552Z
UID:4395-1747850400-1747857600@nyrlca.net
SUMMARY:Ratification Meeting - Long Island New York 2
DESCRIPTION:District Representative of New York 2\, Margaret Mulcan to speak.
URL:https://nyrlca.net/event/ratification-meeting-long-island-new-york-2/
LOCATION:Longwood Public Library\, 800 Middle Country Rd\, Middle Island\, NY\, 11953\, United States
END:VEVENT
BEGIN:VEVENT
DTSTART;TZID=America/New_York:20250522T180000
DTEND;TZID=America/New_York:20250522T200000
DTSTAMP:20260424T030106
CREATED:20250501T003126Z
LAST-MODIFIED:20250501T003126Z
UID:4399-1747936800-1747944000@nyrlca.net
SUMMARY:Ratification Meeting - Western New York 3
DESCRIPTION:Assistant District Representative of New York 3\, Susan West to speak.
URL:https://nyrlca.net/event/ratification-meeting-western-new-york-3/
LOCATION:Quality Inn – Batavia\, 8250 Park Rd\, Batavia\, NY\, 14020\, United States
END:VEVENT
BEGIN:VEVENT
DTSTART;TZID=America/New_York:20250523T180000
DTEND;TZID=America/New_York:20250523T200000
DTSTAMP:20260424T030106
CREATED:20250501T002427Z
LAST-MODIFIED:20250501T002427Z
UID:4392-1748023200-1748030400@nyrlca.net
SUMMARY:Ratification Meeting - South-East New York 3
DESCRIPTION:District Representative of New York 3\, Phil Tremper to speak.
URL:https://nyrlca.net/event/ratification-meeting-south-east-new-york-3/
LOCATION:VFW Post 5913\, 8 School St\, Wappingers Falls\, NY\, 12590\, United States
END:VEVENT
BEGIN:VEVENT
DTSTART;VALUE=DATE:20250529
DTEND;VALUE=DATE:20250530
DTSTAMP:20260424T030106
CREATED:20250515T044037Z
LAST-MODIFIED:20250530T023404Z
UID:4411-1748476800-1748563199@nyrlca.net
SUMMARY:NRLCA National Delegate Convention Ballot - Mailing Date
DESCRIPTION:May 29\, 2025:  Ballots must be mailed on or before this date.
URL:https://nyrlca.net/event/nrlca-national-convention-ballot-mailing-date/
LOCATION:NY
END:VEVENT
BEGIN:VEVENT
DTSTART;TZID=America/New_York:20250530T180000
DTEND;TZID=America/New_York:20250530T200000
DTSTAMP:20260424T030106
CREATED:20250506T003746Z
LAST-MODIFIED:20250527T225634Z
UID:4397-1748628000-1748635200@nyrlca.net
SUMMARY:Ratification Meeting - New York ZOOM
DESCRIPTION:District Representative of New York 3\, Phil Tremper & District Representative of New York 2\, Margaret Mulcan to speak. \nMeeting ID: 871 3715 0325\nPasscode: 861853 \nOne-Click Link: https://us06web.zoom.us/j/87137150325?pwd=HrQBwsPsug9iIddLRYbEvazR2h2TUI.1 \nPhone In Numbers: \nDial by your location\n• +1 929 205 6099 US (New York)\n• +1 646 931 3860 US \nThere will be a waiting room\, please ensure that your username is set to your legal verifiable name that you are using as a union member to join. If your name is not matching\, you will not be let in the ZOOM meeting. This is an NRLCA members only meeting. \nFor any issues\, please contact the webmaster at 585-993-1702 or via email at webmaster.nyrlca@gmail.com
URL:https://nyrlca.net/event/ratification-meeting-new-york-zoom/
LOCATION:NY
END:VEVENT
END:VCALENDAR