BEGIN:VCALENDAR
VERSION:2.0
PRODID:-//New York Rural Letter Carriers&#039; Association - ECPv6.15.20//NONSGML v1.0//EN
CALSCALE:GREGORIAN
METHOD:PUBLISH
X-ORIGINAL-URL:https://nyrlca.net
X-WR-CALDESC:Events for New York Rural Letter Carriers&#039; Association
REFRESH-INTERVAL;VALUE=DURATION:PT1H
X-Robots-Tag:noindex
X-PUBLISHED-TTL:PT1H
BEGIN:VTIMEZONE
TZID:America/New_York
BEGIN:DAYLIGHT
TZOFFSETFROM:-0500
TZOFFSETTO:-0400
TZNAME:EDT
DTSTART:20240310T070000
END:DAYLIGHT
BEGIN:STANDARD
TZOFFSETFROM:-0400
TZOFFSETTO:-0500
TZNAME:EST
DTSTART:20241103T060000
END:STANDARD
BEGIN:DAYLIGHT
TZOFFSETFROM:-0500
TZOFFSETTO:-0400
TZNAME:EDT
DTSTART:20250309T070000
END:DAYLIGHT
BEGIN:STANDARD
TZOFFSETFROM:-0400
TZOFFSETTO:-0500
TZNAME:EST
DTSTART:20251102T060000
END:STANDARD
BEGIN:DAYLIGHT
TZOFFSETFROM:-0500
TZOFFSETTO:-0400
TZNAME:EDT
DTSTART:20260308T070000
END:DAYLIGHT
BEGIN:STANDARD
TZOFFSETFROM:-0400
TZOFFSETTO:-0500
TZNAME:EST
DTSTART:20261101T060000
END:STANDARD
END:VTIMEZONE
BEGIN:VEVENT
DTSTART;VALUE=DATE:20251005
DTEND;VALUE=DATE:20251006
DTSTAMP:20260423T200328
CREATED:20250925T031626Z
LAST-MODIFIED:20250925T031626Z
UID:4489-1759622400-1759708799@nyrlca.net
SUMMARY:Dutchess County RLCA Fall Meeting
DESCRIPTION:NYRLCA: Ginger Stickles\, Executive Committee \nNSS: Phil Tremper\, DR
URL:https://nyrlca.net/event/dutchess-county-rlca-fall-meeting/
LOCATION:Daddy O’s\, 3 Turner St\, Hopewell Junction\, NY\, 12533\, United States
END:VEVENT
BEGIN:VEVENT
DTSTART;TZID=America/New_York:20251007T180000
DTEND;TZID=America/New_York:20251007T210000
DTSTAMP:20260423T200328
CREATED:20250925T032057Z
LAST-MODIFIED:20250925T032057Z
UID:4494-1759860000-1759870800@nyrlca.net
SUMMARY:Erie County RLCA Fall Meeting
DESCRIPTION:NYRLCA: Stephanie Farinacci\, Executive Committee \nNSS: Nicholas Vogl\, ADR
URL:https://nyrlca.net/event/erie-county-rlca-fall-meeting/
LOCATION:Amvet Post\, 4721 Broadway\, Depew\, NY\, 14043\, United States
END:VEVENT
BEGIN:VEVENT
DTSTART;TZID=America/New_York:20251009T180000
DTEND;TZID=America/New_York:20251009T210000
DTSTAMP:20260423T200328
CREATED:20250925T032423Z
LAST-MODIFIED:20250925T032443Z
UID:4498-1760032800-1760043600@nyrlca.net
SUMMARY:Genesee-Orleans County RLCA Fall Meeting
DESCRIPTION:NYRLCA: Stephanie Farinacci\, Executive Committee \nNSS: Nicholas Vogl\, ADR
URL:https://nyrlca.net/event/genesee-orleans-county-rlca-fall-meeting/
LOCATION:Le Roy Legion Hall\, 53 W Main St\, Le Roy\, NY\, 14482\, United States
END:VEVENT
BEGIN:VEVENT
DTSTART;TZID=America/New_York:20251019T133000
DTEND;TZID=America/New_York:20251019T163000
DTSTAMP:20260423T200328
CREATED:20251008T132600Z
LAST-MODIFIED:20251008T132600Z
UID:4503-1760880600-1760891400@nyrlca.net
SUMMARY:Long Island County RLCA Fall Meeting
DESCRIPTION:NYRLCA: Ginger Stickles \nNSS: Margaret Mulcan – WILL NOT BE IN ATTENDANCE DUE TO A REQUIRED NSS TRAINING
URL:https://nyrlca.net/event/long-island-county-rlca-fall-meeting/
LOCATION:Longwood Public Library\, 800 Middle Country Rd\, Middle Island\, NY\, 11953\, United States
END:VEVENT
BEGIN:VEVENT
DTSTART;TZID=America/New_York:20251019T140000
DTEND;TZID=America/New_York:20251019T170000
DTSTAMP:20260423T200328
CREATED:20251008T132955Z
LAST-MODIFIED:20251008T133010Z
UID:4505-1760882400-1760893200@nyrlca.net
SUMMARY:Chautauqua County RLCA Fall Meeting
DESCRIPTION:NYRLCA: Karen Kipp \nNSS: Nicholas Vogl
URL:https://nyrlca.net/event/chautauqua-county-rlca-fall-meeting/
LOCATION:Stockton Hotel\, 2 S. Main Street\, Stockton\, NY\, 14784\, United States
END:VEVENT
BEGIN:VEVENT
DTSTART;TZID=America/New_York:20251021T180000
DTEND;TZID=America/New_York:20251021T210000
DTSTAMP:20260423T200328
CREATED:20250925T032310Z
LAST-MODIFIED:20250925T032310Z
UID:4496-1761069600-1761080400@nyrlca.net
SUMMARY:Niagara County RLCA Fall Meeting
DESCRIPTION:NYRLCA: Stephanie Farinacci\, Executive Committee \nNSS: Nicholas Vogl\, ADR – WILL NOT BE IN ATTENDANCE DUE TO A REQUIRED NSS TRAINING\, OUT OF STATE
URL:https://nyrlca.net/event/niagara-county-rlca-fall-meeting/
LOCATION:VFW – Lockport\, 112 Caledonia St\, Lockport\, NY\, 14094\, United States
END:VEVENT
BEGIN:VEVENT
DTSTART;TZID=America/New_York:20251026T130000
DTEND;TZID=America/New_York:20251026T160000
DTSTAMP:20260423T200328
CREATED:20250315T013832Z
LAST-MODIFIED:20250315T013832Z
UID:4303-1761483600-1761494400@nyrlca.net
SUMMARY:Eastern Counties Fall Meeting
DESCRIPTION:
URL:https://nyrlca.net/event/eastern-counties-fall-meeting/
LOCATION:Woodn Wheel Family Fun Center\, 365 Route 9W\, Ulster\, NY\, 12487\, United States
END:VEVENT
END:VCALENDAR