BEGIN:VCALENDAR
VERSION:2.0
PRODID:-//New York Rural Letter Carriers&#039; Association - ECPv6.15.20//NONSGML v1.0//EN
CALSCALE:GREGORIAN
METHOD:PUBLISH
X-WR-CALNAME:New York Rural Letter Carriers&#039; Association
X-ORIGINAL-URL:https://nyrlca.net
X-WR-CALDESC:Events for New York Rural Letter Carriers&#039; Association
REFRESH-INTERVAL;VALUE=DURATION:PT1H
X-Robots-Tag:noindex
X-PUBLISHED-TTL:PT1H
BEGIN:VTIMEZONE
TZID:America/New_York
BEGIN:DAYLIGHT
TZOFFSETFROM:-0500
TZOFFSETTO:-0400
TZNAME:EDT
DTSTART:20250309T070000
END:DAYLIGHT
BEGIN:STANDARD
TZOFFSETFROM:-0400
TZOFFSETTO:-0500
TZNAME:EST
DTSTART:20251102T060000
END:STANDARD
BEGIN:DAYLIGHT
TZOFFSETFROM:-0500
TZOFFSETTO:-0400
TZNAME:EDT
DTSTART:20260308T070000
END:DAYLIGHT
BEGIN:STANDARD
TZOFFSETFROM:-0400
TZOFFSETTO:-0500
TZNAME:EST
DTSTART:20261101T060000
END:STANDARD
BEGIN:DAYLIGHT
TZOFFSETFROM:-0500
TZOFFSETTO:-0400
TZNAME:EDT
DTSTART:20270314T070000
END:DAYLIGHT
BEGIN:STANDARD
TZOFFSETFROM:-0400
TZOFFSETTO:-0500
TZNAME:EST
DTSTART:20271107T060000
END:STANDARD
END:VTIMEZONE
BEGIN:VEVENT
DTSTART;VALUE=DATE:20260216
DTEND;VALUE=DATE:20260217
DTSTAMP:20260423T135820
CREATED:20250108T230952Z
LAST-MODIFIED:20260109T041042Z
UID:4150-1771200000-1771286399@nyrlca.net
SUMMARY:President's Day
DESCRIPTION:
URL:https://nyrlca.net/event/presidents-day/
LOCATION:NY
END:VEVENT
BEGIN:VEVENT
DTSTART;VALUE=DATE:20260221
DTEND;VALUE=DATE:20260307
DTSTAMP:20260423T135820
CREATED:20260203T183154Z
LAST-MODIFIED:20260203T184414Z
UID:4594-1771632000-1772841599@nyrlca.net
SUMMARY:Mini Mail Survey - Spring 2026
DESCRIPTION:Saturday\, February 7\, 2026\nBegin MMS Preload\n\n\n\n\n\nDelivery Units enter Office Walk\, Route Settings and Daily Volume data into the Rural Management Support System (RMSS) web application\n\n\n\n\n\n\nFriday\, February 21\, 2026\nBegin MMS\nFirst Day of 12-Day MMS – Begin data entry of “Daily Volume” and “Miscellaneous Time” Data entry must be made daily by COB for all routes\n\n\nFriday\, March 6\, 2026\nEnd MMS\nLast Day of MMS – Data for all routes should be entered for all 12 days of the MMS. Routes must be mapped in DPM and certified in LTM\, no mapping changes will be reflected post this date in Eval 6.\n\n\nFriday\, March 13\, 2026\nLockout MMS\nFinal Day for MMS Entries – No updates to MMS data may be made after 03/13/2026\n\n\nSaturday\, March 28\, 2026\nForms 4241A & 4241M PDF\nPrint and Distribute PS Forms 4241A & 4241M\n\n\nSaturday\, April 4\, 2026\nEffective Date\nRoute Evaluations go into effect
URL:https://nyrlca.net/event/mini-mail-survey-spring-2026/
LOCATION:NY
END:VEVENT
END:VCALENDAR