BEGIN:VCALENDAR
VERSION:2.0
PRODID:-//New York Rural Letter Carriers&#039; Association - ECPv6.15.20//NONSGML v1.0//EN
CALSCALE:GREGORIAN
METHOD:PUBLISH
X-ORIGINAL-URL:https://nyrlca.net
X-WR-CALDESC:Events for New York Rural Letter Carriers&#039; Association
REFRESH-INTERVAL;VALUE=DURATION:PT1H
X-Robots-Tag:noindex
X-PUBLISHED-TTL:PT1H
BEGIN:VTIMEZONE
TZID:America/New_York
BEGIN:DAYLIGHT
TZOFFSETFROM:-0500
TZOFFSETTO:-0400
TZNAME:EDT
DTSTART:20250309T070000
END:DAYLIGHT
BEGIN:STANDARD
TZOFFSETFROM:-0400
TZOFFSETTO:-0500
TZNAME:EST
DTSTART:20251102T060000
END:STANDARD
BEGIN:DAYLIGHT
TZOFFSETFROM:-0500
TZOFFSETTO:-0400
TZNAME:EDT
DTSTART:20260308T070000
END:DAYLIGHT
BEGIN:STANDARD
TZOFFSETFROM:-0400
TZOFFSETTO:-0500
TZNAME:EST
DTSTART:20261101T060000
END:STANDARD
BEGIN:DAYLIGHT
TZOFFSETFROM:-0500
TZOFFSETTO:-0400
TZNAME:EDT
DTSTART:20270314T070000
END:DAYLIGHT
BEGIN:STANDARD
TZOFFSETFROM:-0400
TZOFFSETTO:-0500
TZNAME:EST
DTSTART:20271107T060000
END:STANDARD
END:VTIMEZONE
BEGIN:VEVENT
DTSTART;VALUE=DATE:20260221
DTEND;VALUE=DATE:20260307
DTSTAMP:20260423T121755
CREATED:20260203T183154Z
LAST-MODIFIED:20260203T184414Z
UID:4594-1771632000-1772841599@nyrlca.net
SUMMARY:Mini Mail Survey - Spring 2026
DESCRIPTION:Saturday\, February 7\, 2026\nBegin MMS Preload\n\n\n\n\n\nDelivery Units enter Office Walk\, Route Settings and Daily Volume data into the Rural Management Support System (RMSS) web application\n\n\n\n\n\n\nFriday\, February 21\, 2026\nBegin MMS\nFirst Day of 12-Day MMS – Begin data entry of “Daily Volume” and “Miscellaneous Time” Data entry must be made daily by COB for all routes\n\n\nFriday\, March 6\, 2026\nEnd MMS\nLast Day of MMS – Data for all routes should be entered for all 12 days of the MMS. Routes must be mapped in DPM and certified in LTM\, no mapping changes will be reflected post this date in Eval 6.\n\n\nFriday\, March 13\, 2026\nLockout MMS\nFinal Day for MMS Entries – No updates to MMS data may be made after 03/13/2026\n\n\nSaturday\, March 28\, 2026\nForms 4241A & 4241M PDF\nPrint and Distribute PS Forms 4241A & 4241M\n\n\nSaturday\, April 4\, 2026\nEffective Date\nRoute Evaluations go into effect
URL:https://nyrlca.net/event/mini-mail-survey-spring-2026/
LOCATION:NY
END:VEVENT
BEGIN:VEVENT
DTSTART;VALUE=DATE:20260320
DTEND;VALUE=DATE:20260323
DTSTAMP:20260423T121755
CREATED:20250316T203632Z
LAST-MODIFIED:20260305T204524Z
UID:4309-1773964800-1774223999@nyrlca.net
SUMMARY:2026 Eastern States Conference
DESCRIPTION:The Eastern States Conference will be held Friday March 20\, 2026-Sunday March 22\, 2026\, at The Holiday Inn \nNorth Beach\, 3900 Atlantic Ave\, Virginia Beach\, Va 23451. The Room rate will be $124 a night for double \noccupancy plus taxes. Maximum occupancy for each room is 4 people. The rate includes complimentary parking \nand wi-fi. The discounted rate is applicable 3 days pre & post based on availability. For hotel reservations\, \ncall 1-757-428-1711 and request the “Eastern States Conference” room block. The online code is “VAR”.  \nHotel reservations must be made by February 20\, 2026\, to receive the group rate. All reservations must  \nbe accompanied by the first night’s room deposit guaranteed with a major credit card. \nRegistration for the conference is $50 per person. Registration for non-conference guests wishing to participate in \nbreakfasts and all other program activities is $50 per person. The deadline for registering is March 10\, 2026. \nRegistrations received after March 10th or “at the door” will be $60 for conference attendees and $60 for non- \nconference guests. Registration includes a continental breakfast on Friday\, Saturday and Sunday\, and all program \nactivities. \n  \nThe Executive Committee meeting will be Thursday\, March 19\, 2026\, at 6 PM.
URL:https://nyrlca.net/event/2026-eastern-states-conference/
LOCATION:Virginia Beach – Hilton Inn\, 3900 Atlantic Ave\, Virginia Beach\, VA\, 23451\, United States
END:VEVENT
BEGIN:VEVENT
DTSTART;VALUE=DATE:20260328
DTEND;VALUE=DATE:20260329
DTSTAMP:20260423T121755
CREATED:20260305T222138Z
LAST-MODIFIED:20260305T222138Z
UID:4688-1774656000-1774742399@nyrlca.net
SUMMARY:RRECS Evaluations Printed
DESCRIPTION:
URL:https://nyrlca.net/event/rrecs-evaluations-printed/
LOCATION:NY
END:VEVENT
END:VCALENDAR