BEGIN:VCALENDAR
VERSION:2.0
PRODID:-//New York Rural Letter Carriers&#039; Association - ECPv6.15.20//NONSGML v1.0//EN
CALSCALE:GREGORIAN
METHOD:PUBLISH
X-WR-CALNAME:New York Rural Letter Carriers&#039; Association
X-ORIGINAL-URL:https://nyrlca.net
X-WR-CALDESC:Events for New York Rural Letter Carriers&#039; Association
REFRESH-INTERVAL;VALUE=DURATION:PT1H
X-Robots-Tag:noindex
X-PUBLISHED-TTL:PT1H
BEGIN:VTIMEZONE
TZID:America/New_York
BEGIN:DAYLIGHT
TZOFFSETFROM:-0500
TZOFFSETTO:-0400
TZNAME:EDT
DTSTART:20250309T070000
END:DAYLIGHT
BEGIN:STANDARD
TZOFFSETFROM:-0400
TZOFFSETTO:-0500
TZNAME:EST
DTSTART:20251102T060000
END:STANDARD
BEGIN:DAYLIGHT
TZOFFSETFROM:-0500
TZOFFSETTO:-0400
TZNAME:EDT
DTSTART:20260308T070000
END:DAYLIGHT
BEGIN:STANDARD
TZOFFSETFROM:-0400
TZOFFSETTO:-0500
TZNAME:EST
DTSTART:20261101T060000
END:STANDARD
BEGIN:DAYLIGHT
TZOFFSETFROM:-0500
TZOFFSETTO:-0400
TZNAME:EDT
DTSTART:20270314T070000
END:DAYLIGHT
BEGIN:STANDARD
TZOFFSETFROM:-0400
TZOFFSETTO:-0500
TZNAME:EST
DTSTART:20271107T060000
END:STANDARD
END:VTIMEZONE
BEGIN:VEVENT
DTSTART;TZID=America/New_York:20260502T173000
DTEND;TZID=America/New_York:20260502T203000
DTSTAMP:20260423T121703
CREATED:20260314T034458Z
LAST-MODIFIED:20260314T034458Z
UID:4738-1777743000-1777753800@nyrlca.net
SUMMARY:Tru-North County RLCA Spring Meeting
DESCRIPTION:NYRLCA Officer: Brian Thompson \nNational Steward: Tina Leggue
URL:https://nyrlca.net/event/tru-north-county-rlca-spring-meeting/
LOCATION:TBA\, Orlando\, FL\, United States
END:VEVENT
BEGIN:VEVENT
DTSTART;TZID=America/New_York:20260505T173000
DTEND;TZID=America/New_York:20260505T203000
DTSTAMP:20260423T121703
CREATED:20260310T194658Z
LAST-MODIFIED:20260310T194658Z
UID:4709-1778002200-1778013000@nyrlca.net
SUMMARY:Niagara County RLCA Spring Meeting
DESCRIPTION:NYRLCA Officer: Stephanie Farinacci \nNational Steward: Nicholas Vogl
URL:https://nyrlca.net/event/niagara-county-rlca-spring-meeting-2/
LOCATION:VFW – Lockport\, 112 Caledonia St\, Lockport\, NY\, 14094\, United States
END:VEVENT
BEGIN:VEVENT
DTSTART;TZID=America/New_York:20260505T180000
DTEND;TZID=America/New_York:20260505T210000
DTSTAMP:20260423T121703
CREATED:20260408T230007Z
LAST-MODIFIED:20260408T230007Z
UID:4880-1778004000-1778014800@nyrlca.net
SUMMARY:Sullivan County RLCA Spring Meeting
DESCRIPTION:NYRLCA Officer: Ginger Stickles \nNational Steward: Phil Tremper
URL:https://nyrlca.net/event/sullivan-county-rlca-spring-meeting/
LOCATION:The Kork and Keg Bar & Grill\, 52 Sullivan Ave\, Liberty\, NY\, 12754\, United States
END:VEVENT
BEGIN:VEVENT
DTSTART;TZID=America/New_York:20260505T181500
DTEND;TZID=America/New_York:20260505T211500
DTSTAMP:20260423T121703
CREATED:20260303T034702Z
LAST-MODIFIED:20260303T034702Z
UID:4680-1778004900-1778015700@nyrlca.net
SUMMARY:TOMPCORT RLCA Spring Meeting
DESCRIPTION:State Officer: S. John Fancher \nNSS: Susan West
URL:https://nyrlca.net/event/tompcort-rlca-spring-meeting/
LOCATION:DVMH – American Legion\, 2272 Dryden Rd\, Dryden\, NY\, 13053\, United States
END:VEVENT
BEGIN:VEVENT
DTSTART;TZID=America/New_York:20260509T183000
DTEND;TZID=America/New_York:20260509T213000
DTSTAMP:20260423T121703
CREATED:20260319T030758Z
LAST-MODIFIED:20260319T030758Z
UID:4768-1778351400-1778362200@nyrlca.net
SUMMARY:Chenango/Madison County RLCA Spring Meeting
DESCRIPTION:NYRLCA Officer: John Fancher \nNational Steward: Sheila Auslander
URL:https://nyrlca.net/event/chenango-madison-county-rlca-spring-meeting-2/
LOCATION:Fred’s Inn\, 5149 NY-12\, Norwich\, NY\, 13815\, United States
END:VEVENT
BEGIN:VEVENT
DTSTART;TZID=America/New_York:20260512T180000
DTEND;TZID=America/New_York:20260512T210000
DTSTAMP:20260423T121703
CREATED:20260305T221930Z
LAST-MODIFIED:20260306T140744Z
UID:4686-1778608800-1778619600@nyrlca.net
SUMMARY:ALLE-CATT RLCA Spring Meeting
DESCRIPTION:NYRLCA Officer: Karen Kipp \nNational Steward: Nicholas Vogl
URL:https://nyrlca.net/event/alle-catt-rlca-spring-meeting/
LOCATION:Perkin’s Restaurant\, 2728 W State St\, Olean\, NY\, 14760\, United States
END:VEVENT
BEGIN:VEVENT
DTSTART;TZID=America/New_York:20260512T180000
DTEND;TZID=America/New_York:20260512T220000
DTSTAMP:20260423T121703
CREATED:20260310T201348Z
LAST-MODIFIED:20260310T201348Z
UID:4713-1778608800-1778623200@nyrlca.net
SUMMARY:Orange-Rockland County RLCA Spring Meeting
DESCRIPTION:NYRLCA Officer: Ginger Stickles \nNational Steward: Victoria Harper
URL:https://nyrlca.net/event/orange-rockland-county-rlca-spring-meeting-2/
LOCATION:Kaz Americana Diner\, 420 NY-211\, Middletown\, NY\, 10940\, United States
END:VEVENT
BEGIN:VEVENT
DTSTART;VALUE=DATE:20260525
DTEND;VALUE=DATE:20260526
DTSTAMP:20260423T121703
CREATED:20250108T231048Z
LAST-MODIFIED:20260109T041215Z
UID:4152-1779667200-1779753599@nyrlca.net
SUMMARY:Memorial Day
DESCRIPTION:
URL:https://nyrlca.net/event/memorial-day/
LOCATION:NY
END:VEVENT
END:VCALENDAR